BEGIN:VCALENDAR
VERSION:2.0
PRODID:-//ProCopywriters | the Alliance of Commercial Writers - ECPv6.15.16//NONSGML v1.0//EN
CALSCALE:GREGORIAN
METHOD:PUBLISH
X-WR-CALNAME:ProCopywriters | the Alliance of Commercial Writers
X-ORIGINAL-URL:https://www.procopywriters.co.uk
X-WR-CALDESC:Events for ProCopywriters | the Alliance of Commercial Writers
REFRESH-INTERVAL;VALUE=DURATION:PT1H
X-Robots-Tag:noindex
X-PUBLISHED-TTL:PT1H
BEGIN:VTIMEZONE
TZID:Europe/London
BEGIN:DAYLIGHT
TZOFFSETFROM:+0000
TZOFFSETTO:+0100
TZNAME:BST
DTSTART:20230326T010000
END:DAYLIGHT
BEGIN:STANDARD
TZOFFSETFROM:+0100
TZOFFSETTO:+0000
TZNAME:GMT
DTSTART:20231029T010000
END:STANDARD
BEGIN:DAYLIGHT
TZOFFSETFROM:+0000
TZOFFSETTO:+0100
TZNAME:BST
DTSTART:20240331T010000
END:DAYLIGHT
BEGIN:STANDARD
TZOFFSETFROM:+0100
TZOFFSETTO:+0000
TZNAME:GMT
DTSTART:20241027T010000
END:STANDARD
BEGIN:DAYLIGHT
TZOFFSETFROM:+0000
TZOFFSETTO:+0100
TZNAME:BST
DTSTART:20250330T010000
END:DAYLIGHT
BEGIN:STANDARD
TZOFFSETFROM:+0100
TZOFFSETTO:+0000
TZNAME:GMT
DTSTART:20251026T010000
END:STANDARD
END:VTIMEZONE
BEGIN:VEVENT
DTSTART;TZID=Europe/London:20240319T120000
DTEND;TZID=Europe/London:20240319T130000
DTSTAMP:20260421T110337
CREATED:20240112T123846Z
LAST-MODIFIED:20240112T123911Z
UID:24749-1710849600-1710853200@www.procopywriters.co.uk
SUMMARY:AI for Copywriters: an Introduction
DESCRIPTION:During our 60-minute session\, we’ll cover: \n\nThe current AI copywriting landscape and the main AI tools\nWhen AI is helpful and when it isn’t\nHow to use AI for beating writer’s block\, brainstorming and researching\nHow to use AI to create first drafts and structures\nHow to use AI to edit and fine-tune your writing\nKey issues and considerations when using AI in your work\n\nWe’ll finish with a 15-minute Q&A. \nHosted by Kerry Harrison\nKerry is an award-winning AI consultant and copywriter\, specialising in using artificial intelligence to augment human creativity. \nOver the last five years\, she has co-created the world’s first AI gin\, crafted an AI Queen’s speech for Wired Magazine\, brought the award-winning Cheltenham Science Festival AI curator to life\, won two DMA Awards for Best Use of AI – and has spoken about AI both nationally and internationally. \nShe runs regular AI courses for businesses across the UK and is the Course Director of the AI Copywriting Masterclass at the Chartered Institute of Marketing. \nThis workshop is for registered members of ProCopywriters. Please sign in to register for this workshop.
URL:https://www.procopywriters.co.uk/event/ai-for-copywriters-an-introduction/
LOCATION:Online
CATEGORIES:Workshop
ATTACH;FMTTYPE=image/jpeg:https://procopywriters-media-offload.s3.eu-west-2.amazonaws.com/wp-content/uploads/2023/12/16160445/PC-Workshop-MemberExclusive.jpg
ORGANIZER;CN="ProCopywriters":MAILTO:events@procopywriters.co.uk
END:VEVENT
END:VCALENDAR