BEGIN:VCALENDAR
VERSION:2.0
PRODID:-//ProCopywriters | the Alliance of Commercial Writers - ECPv6.15.16//NONSGML v1.0//EN
CALSCALE:GREGORIAN
METHOD:PUBLISH
X-WR-CALNAME:ProCopywriters | the Alliance of Commercial Writers
X-ORIGINAL-URL:https://www.procopywriters.co.uk
X-WR-CALDESC:Events for ProCopywriters | the Alliance of Commercial Writers
REFRESH-INTERVAL;VALUE=DURATION:PT1H
X-Robots-Tag:noindex
X-PUBLISHED-TTL:PT1H
BEGIN:VTIMEZONE
TZID:Europe/London
BEGIN:DAYLIGHT
TZOFFSETFROM:+0000
TZOFFSETTO:+0100
TZNAME:BST
DTSTART:20190331T010000
END:DAYLIGHT
BEGIN:STANDARD
TZOFFSETFROM:+0100
TZOFFSETTO:+0000
TZNAME:GMT
DTSTART:20191027T010000
END:STANDARD
BEGIN:DAYLIGHT
TZOFFSETFROM:+0000
TZOFFSETTO:+0100
TZNAME:BST
DTSTART:20200329T010000
END:DAYLIGHT
BEGIN:STANDARD
TZOFFSETFROM:+0100
TZOFFSETTO:+0000
TZNAME:GMT
DTSTART:20201025T010000
END:STANDARD
BEGIN:DAYLIGHT
TZOFFSETFROM:+0000
TZOFFSETTO:+0100
TZNAME:BST
DTSTART:20210328T010000
END:DAYLIGHT
BEGIN:STANDARD
TZOFFSETFROM:+0100
TZOFFSETTO:+0000
TZNAME:GMT
DTSTART:20211031T010000
END:STANDARD
END:VTIMEZONE
BEGIN:VEVENT
DTSTART;TZID=Europe/London:20200716T120000
DTEND;TZID=Europe/London:20200716T130000
DTSTAMP:20260420T120145
CREATED:20191016T130713Z
LAST-MODIFIED:20191016T130713Z
UID:20424-1594900800-1594904400@www.procopywriters.co.uk
SUMMARY:Content Strategy: an Introduction
DESCRIPTION:Tim Fidgeon presents an introduction to content strategy. According to Kristina Halvorson (a pioneer in the profession) “Content strategy guides the creation\, delivery\, and governance of useful\, usable content.” \nRegister for this webinar\n[gotowebinar-reg key=”4104966591397076492″ constantcontact=”1731629751″]
URL:https://www.procopywriters.co.uk/event/content-strategy-workshop/
LOCATION:Online
ORGANIZER;CN="ProCopywriters":MAILTO:events@procopywriters.co.uk
END:VEVENT
END:VCALENDAR