BEGIN:VCALENDAR
VERSION:2.0
PRODID:-//ProCopywriters | the Alliance of Commercial Writers - ECPv6.15.16//NONSGML v1.0//EN
CALSCALE:GREGORIAN
METHOD:PUBLISH
X-WR-CALNAME:ProCopywriters | the Alliance of Commercial Writers
X-ORIGINAL-URL:https://www.procopywriters.co.uk
X-WR-CALDESC:Events for ProCopywriters | the Alliance of Commercial Writers
REFRESH-INTERVAL;VALUE=DURATION:PT1H
X-Robots-Tag:noindex
X-PUBLISHED-TTL:PT1H
BEGIN:VTIMEZONE
TZID:Europe/London
BEGIN:DAYLIGHT
TZOFFSETFROM:+0000
TZOFFSETTO:+0100
TZNAME:BST
DTSTART:20180325T010000
END:DAYLIGHT
BEGIN:STANDARD
TZOFFSETFROM:+0100
TZOFFSETTO:+0000
TZNAME:GMT
DTSTART:20181028T010000
END:STANDARD
BEGIN:DAYLIGHT
TZOFFSETFROM:+0000
TZOFFSETTO:+0100
TZNAME:BST
DTSTART:20190331T010000
END:DAYLIGHT
BEGIN:STANDARD
TZOFFSETFROM:+0100
TZOFFSETTO:+0000
TZNAME:GMT
DTSTART:20191027T010000
END:STANDARD
BEGIN:DAYLIGHT
TZOFFSETFROM:+0000
TZOFFSETTO:+0100
TZNAME:BST
DTSTART:20200329T010000
END:DAYLIGHT
BEGIN:STANDARD
TZOFFSETFROM:+0100
TZOFFSETTO:+0000
TZNAME:GMT
DTSTART:20201025T010000
END:STANDARD
END:VTIMEZONE
BEGIN:VEVENT
DTSTART;TZID=Europe/London:20190208T120000
DTEND;TZID=Europe/London:20190208T130000
DTSTAMP:20260422T115017
CREATED:20190205T094427Z
LAST-MODIFIED:20190205T094427Z
UID:20387-1549627200-1549630800@www.procopywriters.co.uk
SUMMARY:Peer Mentoring - an Experimental Webinar
DESCRIPTION:Can we all learn from each other using the medium of webinar? \nWe won’t know until we try. \nGrab a beer\, turn off your phone and let’s get mentored. \nWe’ll pick a topic\, such as rates\, finding clients\, or dealing with twerps that won’t pay\, and take questions from attendees. You can either type your question or we can unmute you on the webinar so you can speak. And then we’ll canvas the group for answers. You can either participate\, or just listen. \nAfter registering\, you will receive a confirmation email containing information about joining the webinar. \nThis session is free for all ProCopywriters members. \nRemember\, this is just an experiment\, so please attend with an open mind.
URL:https://www.procopywriters.co.uk/event/peer-mentoring-an-experimental-webinar/
LOCATION:Online
ATTACH;FMTTYPE=image/jpeg:https://procopywriters-media-offload.s3.eu-west-2.amazonaws.com/wp-content/uploads/2022/12/16162658/PC-Webinar-Icon.jpg
END:VEVENT
END:VCALENDAR