BEGIN:VCALENDAR
VERSION:2.0
PRODID:-//ProCopywriters | the Alliance of Commercial Writers - ECPv6.15.16//NONSGML v1.0//EN
CALSCALE:GREGORIAN
METHOD:PUBLISH
X-WR-CALNAME:ProCopywriters | the Alliance of Commercial Writers
X-ORIGINAL-URL:https://www.procopywriters.co.uk
X-WR-CALDESC:Events for ProCopywriters | the Alliance of Commercial Writers
REFRESH-INTERVAL;VALUE=DURATION:PT1H
X-Robots-Tag:noindex
X-PUBLISHED-TTL:PT1H
BEGIN:VTIMEZONE
TZID:Europe/London
BEGIN:DAYLIGHT
TZOFFSETFROM:+0000
TZOFFSETTO:+0100
TZNAME:BST
DTSTART:20190331T010000
END:DAYLIGHT
BEGIN:STANDARD
TZOFFSETFROM:+0100
TZOFFSETTO:+0000
TZNAME:GMT
DTSTART:20191027T010000
END:STANDARD
BEGIN:DAYLIGHT
TZOFFSETFROM:+0000
TZOFFSETTO:+0100
TZNAME:BST
DTSTART:20200329T010000
END:DAYLIGHT
BEGIN:STANDARD
TZOFFSETFROM:+0100
TZOFFSETTO:+0000
TZNAME:GMT
DTSTART:20201025T010000
END:STANDARD
BEGIN:DAYLIGHT
TZOFFSETFROM:+0000
TZOFFSETTO:+0100
TZNAME:BST
DTSTART:20210328T010000
END:DAYLIGHT
BEGIN:STANDARD
TZOFFSETFROM:+0100
TZOFFSETTO:+0000
TZNAME:GMT
DTSTART:20211031T010000
END:STANDARD
END:VTIMEZONE
BEGIN:VEVENT
DTSTART;TZID=Europe/London:20200914T100000
DTEND;TZID=Europe/London:20200914T160000
DTSTAMP:20260421T094059
CREATED:20200711T142239Z
LAST-MODIFIED:20200711T142239Z
UID:20441-1600077600-1600099200@www.procopywriters.co.uk
SUMMARY:Persuasion: Practical Insights and Ideas
DESCRIPTION:A day-long training session with consultant and trainer Tim Fidgeon – part of the 2020 Copywriting Conference. \nWhat will you learn?\n\n7-stage model of persuasion\nHow to manipulate peoples’ expectations and perceptions\nModels of decision making and motivation\nHeuristics and cognitive biases that influence our decisions\nEvolutionary psychology and some insights into consumer behaviour\n\nTraining includes:\n\nInteractive training with practical exercises\nQ&As with trainer\nRecording of the session\nSupporting documentation\n\nThe training days are approximately 10 to 4 with plenty of breaks between practical exercises and discussions. \nYour training ticket includes access to our online event platform\, as well as opportunities to network with other delegates and join any of our Satellite Sessions.
URL:https://www.procopywriters.co.uk/event/persuasion-practical-insights-and-ideas/
LOCATION:Online
CATEGORIES:Training
ATTACH;FMTTYPE=image/jpeg:https://procopywriters-media-offload.s3.eu-west-2.amazonaws.com/wp-content/uploads/2022/12/16162638/CC-2020-Speakers7.jpg
ORGANIZER;CN="ProCopywriters":MAILTO:events@procopywriters.co.uk
END:VEVENT
END:VCALENDAR