BEGIN:VCALENDAR
VERSION:2.0
PRODID:-//ProCopywriters | the Alliance of Commercial Writers - ECPv6.15.16//NONSGML v1.0//EN
CALSCALE:GREGORIAN
METHOD:PUBLISH
X-WR-CALNAME:ProCopywriters | the Alliance of Commercial Writers
X-ORIGINAL-URL:https://www.procopywriters.co.uk
X-WR-CALDESC:Events for ProCopywriters | the Alliance of Commercial Writers
REFRESH-INTERVAL;VALUE=DURATION:PT1H
X-Robots-Tag:noindex
X-PUBLISHED-TTL:PT1H
BEGIN:VTIMEZONE
TZID:Europe/London
BEGIN:DAYLIGHT
TZOFFSETFROM:+0000
TZOFFSETTO:+0100
TZNAME:BST
DTSTART:20220327T010000
END:DAYLIGHT
BEGIN:STANDARD
TZOFFSETFROM:+0100
TZOFFSETTO:+0000
TZNAME:GMT
DTSTART:20221030T010000
END:STANDARD
BEGIN:DAYLIGHT
TZOFFSETFROM:+0000
TZOFFSETTO:+0100
TZNAME:BST
DTSTART:20230326T010000
END:DAYLIGHT
BEGIN:STANDARD
TZOFFSETFROM:+0100
TZOFFSETTO:+0000
TZNAME:GMT
DTSTART:20231029T010000
END:STANDARD
BEGIN:DAYLIGHT
TZOFFSETFROM:+0000
TZOFFSETTO:+0100
TZNAME:BST
DTSTART:20240331T010000
END:DAYLIGHT
BEGIN:STANDARD
TZOFFSETFROM:+0100
TZOFFSETTO:+0000
TZNAME:GMT
DTSTART:20241027T010000
END:STANDARD
END:VTIMEZONE
BEGIN:VEVENT
DTSTART;TZID=Europe/London:20231109T120000
DTEND;TZID=Europe/London:20231109T130000
DTSTAMP:20260423T092108
CREATED:20230817T102311Z
LAST-MODIFIED:20230905T122846Z
UID:24273-1699531200-1699534800@www.procopywriters.co.uk
SUMMARY:Persuasive Language – Using Rhetorical Devices and Psychological Triggers in Your Copy
DESCRIPTION:This lunchtime learning workshop is delivered by Tim Tucker. Tim is a digital content strategist and copywriting specialist who has worked with dozens of brands\, including Virgin Media Business\, Tesco\, NatWest\, Nokia\, National Trust and The Guardian. \nThis workshop is for registered members of ProCopywriters. Please sign in to register for this workshop.
URL:https://www.procopywriters.co.uk/event/persuasive-language-using-rhetorical-devices-and-psychological-triggers-in-your-copy/
LOCATION:Online
CATEGORIES:Workshop
ATTACH;FMTTYPE=image/jpeg:https://procopywriters-media-offload.s3.eu-west-2.amazonaws.com/wp-content/uploads/2023/01/16161006/PC-Workshop-Icon-1.jpg
ORGANIZER;CN="ProCopywriters":MAILTO:events@procopywriters.co.uk
END:VEVENT
END:VCALENDAR